BEGIN:VCALENDAR
VERSION:2.0
PRODID:-//Waldorfschule Offenburg - ECPv6.8.3//NONSGML v1.0//EN
CALSCALE:GREGORIAN
METHOD:PUBLISH
X-ORIGINAL-URL:https://www.waldorfschule-og.de
X-WR-CALDESC:Veranstaltungen für Waldorfschule Offenburg
REFRESH-INTERVAL;VALUE=DURATION:PT1H
X-Robots-Tag:noindex
X-PUBLISHED-TTL:PT1H
BEGIN:VTIMEZONE
TZID:Europe/Berlin
BEGIN:DAYLIGHT
TZOFFSETFROM:+0100
TZOFFSETTO:+0200
TZNAME:CEST
DTSTART:20240331T010000
END:DAYLIGHT
BEGIN:STANDARD
TZOFFSETFROM:+0200
TZOFFSETTO:+0100
TZNAME:CET
DTSTART:20241027T010000
END:STANDARD
BEGIN:DAYLIGHT
TZOFFSETFROM:+0100
TZOFFSETTO:+0200
TZNAME:CEST
DTSTART:20250330T010000
END:DAYLIGHT
BEGIN:STANDARD
TZOFFSETFROM:+0200
TZOFFSETTO:+0100
TZNAME:CET
DTSTART:20251026T010000
END:STANDARD
END:VTIMEZONE
BEGIN:VEVENT
DTSTART;VALUE=DATE:20250731
DTEND;VALUE=DATE:20250914
DTSTAMP:20260424T143619
CREATED:20230425T081038Z
LAST-MODIFIED:20250128T142456Z
UID:4699-1753920000-1757807999@www.waldorfschule-og.de
SUMMARY:Sommerferien
DESCRIPTION:
URL:https://www.waldorfschule-og.de/event/sommerferien-2/
CATEGORIES:Ferien
END:VEVENT
BEGIN:VEVENT
DTSTART;TZID=Europe/Berlin:20250727T200000
DTEND;TZID=Europe/Berlin:20250727T223000
DTSTAMP:20260424T143619
CREATED:20250128T141455Z
LAST-MODIFIED:20250128T141455Z
UID:5375-1753646400-1753655400@www.waldorfschule-og.de
SUMMARY:Klassenspiel 11 B
DESCRIPTION:
URL:https://www.waldorfschule-og.de/event/klassenspiel-11-b-6/
LOCATION:Großer Saal
CATEGORIES:Klassenspiel
ORGANIZER;CN="Freie Waldorfschule Offenburg":MAILTO:info@waldorfschule-og.de
END:VEVENT
BEGIN:VEVENT
DTSTART;TZID=Europe/Berlin:20250726T200000
DTEND;TZID=Europe/Berlin:20250726T223000
DTSTAMP:20260424T143619
CREATED:20250128T141338Z
LAST-MODIFIED:20250128T141338Z
UID:5373-1753560000-1753569000@www.waldorfschule-og.de
SUMMARY:Klassenspiel 11 B
DESCRIPTION:
URL:https://www.waldorfschule-og.de/event/klassenspiel-11-b-5/
LOCATION:Großer Saal
CATEGORIES:Klassenspiel
ORGANIZER;CN="Freie Waldorfschule Offenburg":MAILTO:info@waldorfschule-og.de
END:VEVENT
BEGIN:VEVENT
DTSTART;TZID=Europe/Berlin:20250725T200000
DTEND;TZID=Europe/Berlin:20250725T223000
DTSTAMP:20260424T143619
CREATED:20250128T141242Z
LAST-MODIFIED:20250128T141242Z
UID:5371-1753473600-1753482600@www.waldorfschule-og.de
SUMMARY:Klassenspiel 11 B
DESCRIPTION:
URL:https://www.waldorfschule-og.de/event/klassenspiel-11-b-4/
LOCATION:Großer Saal
CATEGORIES:Klassenspiel
ORGANIZER;CN="Freie Waldorfschule Offenburg":MAILTO:info@waldorfschule-og.de
END:VEVENT
BEGIN:VEVENT
DTSTART;TZID=Europe/Berlin:20250712T110000
DTEND;TZID=Europe/Berlin:20250712T150000
DTSTAMP:20260424T143619
CREATED:20250128T141125Z
LAST-MODIFIED:20250519T055226Z
UID:5369-1752318000-1752332400@www.waldorfschule-og.de
SUMMARY:Sommerfest
DESCRIPTION:
URL:https://www.waldorfschule-og.de/event/sommerfest-2/
LOCATION:Freie Waldorfschule Offenburg\, Moltkestraße 3\, Offenburg\, 77654\, Deutschland
CATEGORIES:Schulpflichtiger Samstag
ATTACH;FMTTYPE=image/jpeg:https://www.waldorfschule-og.de/wp-content/uploads/Sommerfest-2022.jpg
END:VEVENT
BEGIN:VEVENT
DTSTART;TZID=Europe/Berlin:20250705T100000
DTEND;TZID=Europe/Berlin:20250705T120000
DTSTAMP:20260424T143619
CREATED:20250128T141025Z
LAST-MODIFIED:20250128T141025Z
UID:5367-1751709600-1751716800@www.waldorfschule-og.de
SUMMARY:Öffentliche Monatsfeier
DESCRIPTION:Mit Darbietungen aus den verschiedenen Klassenstufen.
URL:https://www.waldorfschule-og.de/event/oeffentliche-monatsfeier-4/
LOCATION:Großer Saal
CATEGORIES:Öffentliche Monatsfeier
ORGANIZER;CN="Freie Waldorfschule Offenburg":MAILTO:info@waldorfschule-og.de
END:VEVENT
BEGIN:VEVENT
DTSTART;TZID=Europe/Berlin:20250627T180000
DTEND;TZID=Europe/Berlin:20250627T210000
DTSTAMP:20260424T143619
CREATED:20250128T140904Z
LAST-MODIFIED:20250128T140904Z
UID:5365-1751047200-1751058000@www.waldorfschule-og.de
SUMMARY:Konzert Mittel- und Unterstufenorchester und Chor
DESCRIPTION:
URL:https://www.waldorfschule-og.de/event/konzert-mittel-und-unterstufenorchester-und-chor/
LOCATION:Großer Saal
CATEGORIES:Konzert
ORGANIZER;CN="Freie Waldorfschule Offenburg":MAILTO:info@waldorfschule-og.de
END:VEVENT
BEGIN:VEVENT
DTSTART;VALUE=DATE:20250610
DTEND;VALUE=DATE:20250621
DTSTAMP:20260424T143619
CREATED:20210614T125501Z
LAST-MODIFIED:20250128T142351Z
UID:3893-1749513600-1750463999@www.waldorfschule-og.de
SUMMARY:Pfingstferien
DESCRIPTION:
URL:https://www.waldorfschule-og.de/event/pfingstferien-4/
CATEGORIES:Ferien
END:VEVENT
BEGIN:VEVENT
DTSTART;VALUE=DATE:20250530
DTEND;VALUE=DATE:20250531
DTSTAMP:20260424T143619
CREATED:20250128T143827Z
LAST-MODIFIED:20250128T143827Z
UID:5381-1748563200-1748649599@www.waldorfschule-og.de
SUMMARY:Brückentag - Schulfrei
DESCRIPTION:
URL:https://www.waldorfschule-og.de/event/brueckentag-schulfrei/
CATEGORIES:Ferien
END:VEVENT
BEGIN:VEVENT
DTSTART;TZID=Europe/Berlin:20250523T180000
DTEND;TZID=Europe/Berlin:20250523T210000
DTSTAMP:20260424T143619
CREATED:20250128T140739Z
LAST-MODIFIED:20250128T140739Z
UID:5363-1748023200-1748034000@www.waldorfschule-og.de
SUMMARY:Konzert Oberstufenorchester und Chor
DESCRIPTION:
URL:https://www.waldorfschule-og.de/event/konzert-oberstufenorchester-und-chor-2/
LOCATION:Großer Saal
CATEGORIES:Konzert
ORGANIZER;CN="Freie Waldorfschule Offenburg":MAILTO:info@waldorfschule-og.de
END:VEVENT
BEGIN:VEVENT
DTSTART;TZID=Europe/Berlin:20250518T200000
DTEND;TZID=Europe/Berlin:20250518T223000
DTSTAMP:20260424T143619
CREATED:20250128T140629Z
LAST-MODIFIED:20250128T140629Z
UID:5361-1747598400-1747607400@www.waldorfschule-og.de
SUMMARY:Klassenspiel 11 A
DESCRIPTION:
URL:https://www.waldorfschule-og.de/event/klassenspiel-11-a-6/
LOCATION:Großer Saal
CATEGORIES:Klassenspiel
ORGANIZER;CN="Freie Waldorfschule Offenburg":MAILTO:info@waldorfschule-og.de
END:VEVENT
BEGIN:VEVENT
DTSTART;TZID=Europe/Berlin:20250517T200000
DTEND;TZID=Europe/Berlin:20250517T220000
DTSTAMP:20260424T143619
CREATED:20250128T140524Z
LAST-MODIFIED:20250128T140524Z
UID:5359-1747512000-1747519200@www.waldorfschule-og.de
SUMMARY:Klassenspiel 11 A
DESCRIPTION:
URL:https://www.waldorfschule-og.de/event/klassenspiel-11-a-5/
LOCATION:Großer Saal
CATEGORIES:Klassenspiel
ORGANIZER;CN="Freie Waldorfschule Offenburg":MAILTO:info@waldorfschule-og.de
END:VEVENT
BEGIN:VEVENT
DTSTART;TZID=Europe/Berlin:20250516T200000
DTEND;TZID=Europe/Berlin:20250516T220000
DTSTAMP:20260424T143619
CREATED:20250128T140431Z
LAST-MODIFIED:20250128T140431Z
UID:5357-1747425600-1747432800@www.waldorfschule-og.de
SUMMARY:Klassenspiel 11 A
DESCRIPTION:
URL:https://www.waldorfschule-og.de/event/klassenspiel-11-a-4/
LOCATION:Großer Saal
CATEGORIES:Klassenspiel
ORGANIZER;CN="Freie Waldorfschule Offenburg":MAILTO:info@waldorfschule-og.de
END:VEVENT
BEGIN:VEVENT
DTSTART;VALUE=DATE:20250502
DTEND;VALUE=DATE:20250503
DTSTAMP:20260424T143619
CREATED:20250128T143742Z
LAST-MODIFIED:20250128T143749Z
UID:5379-1746144000-1746230399@www.waldorfschule-og.de
SUMMARY:Pädagogischer Tag - unterrichtsfrei für Schüler:innen
DESCRIPTION:
URL:https://www.waldorfschule-og.de/event/paedagogischer-tag-unterrichtsfrei-fuer-schuelerinnen/
CATEGORIES:Ferien
END:VEVENT
BEGIN:VEVENT
DTSTART;VALUE=DATE:20250414
DTEND;VALUE=DATE:20250426
DTSTAMP:20260424T143619
CREATED:20220328T133623Z
LAST-MODIFIED:20250128T142159Z
UID:4343-1744588800-1745625599@www.waldorfschule-og.de
SUMMARY:Osterferien
DESCRIPTION:
URL:https://www.waldorfschule-og.de/event/osterferien-4/
CATEGORIES:Ferien
END:VEVENT
BEGIN:VEVENT
DTSTART;TZID=Europe/Berlin:20250329T120000
DTEND;TZID=Europe/Berlin:20250329T170000
DTSTAMP:20260424T143619
CREATED:20250128T140301Z
LAST-MODIFIED:20250128T140301Z
UID:5354-1743249600-1743267600@www.waldorfschule-og.de
SUMMARY:Kunsthandwerkermarkt
DESCRIPTION:
URL:https://www.waldorfschule-og.de/event/kunsthandwerkermarkt/
LOCATION:Freie Waldorfschule Offenburg\, Moltkestraße 3\, Offenburg\, 77654\, Deutschland
ATTACH;FMTTYPE=image/jpeg:https://www.waldorfschule-og.de/wp-content/uploads/Kunsthandwerk.jpg
ORGANIZER;CN="Freie Waldorfschule Offenburg":MAILTO:info@waldorfschule-og.de
END:VEVENT
BEGIN:VEVENT
DTSTART;TZID=Europe/Berlin:20250329T100000
DTEND;TZID=Europe/Berlin:20250329T120000
DTSTAMP:20260424T143619
CREATED:20250128T140102Z
LAST-MODIFIED:20250128T140102Z
UID:5352-1743242400-1743249600@www.waldorfschule-og.de
SUMMARY:Öffentliche Monatsfeier
DESCRIPTION:Mit Darbietungen aus den verschiedenen Klassenstufen.
URL:https://www.waldorfschule-og.de/event/oeffentliche-monatsfeier-3/
LOCATION:Großer Saal
CATEGORIES:Öffentliche Monatsfeier
ORGANIZER;CN="Freie Waldorfschule Offenburg":MAILTO:info@waldorfschule-og.de
END:VEVENT
BEGIN:VEVENT
DTSTART;TZID=Europe/Berlin:20250323T153000
DTEND;TZID=Europe/Berlin:20250323T180000
DTSTAMP:20260424T143619
CREATED:20250128T135954Z
LAST-MODIFIED:20250130T094844Z
UID:5350-1742743800-1742752800@www.waldorfschule-og.de
SUMMARY:"Der Meisterdieb" von Matthias Weissert Klassenspiel 8 A
DESCRIPTION:
URL:https://www.waldorfschule-og.de/event/klassenspiel-8-a-6/
LOCATION:Großer Saal
CATEGORIES:Klassenspiel
ORGANIZER;CN="Freie Waldorfschule Offenburg":MAILTO:info@waldorfschule-og.de
END:VEVENT
BEGIN:VEVENT
DTSTART;TZID=Europe/Berlin:20250322T193000
DTEND;TZID=Europe/Berlin:20250322T220000
DTSTAMP:20260424T143619
CREATED:20250128T135900Z
LAST-MODIFIED:20250130T094941Z
UID:5348-1742671800-1742680800@www.waldorfschule-og.de
SUMMARY:"Der Meisterdieb" von Matthias Weissert Klassenspiel 8 A
DESCRIPTION:
URL:https://www.waldorfschule-og.de/event/klassenspiel-8-a-5/
LOCATION:Großer Saal
CATEGORIES:Klassenspiel
ORGANIZER;CN="Freie Waldorfschule Offenburg":MAILTO:info@waldorfschule-og.de
END:VEVENT
BEGIN:VEVENT
DTSTART;TZID=Europe/Berlin:20250321T193000
DTEND;TZID=Europe/Berlin:20250321T220000
DTSTAMP:20260424T143619
CREATED:20250128T135746Z
LAST-MODIFIED:20250130T095010Z
UID:5346-1742585400-1742594400@www.waldorfschule-og.de
SUMMARY:"Der Meisterdieb" von Matthias Weissert Klassenspiel 8 a
DESCRIPTION:
URL:https://www.waldorfschule-og.de/event/klassenspiel-8-a-4/
LOCATION:Großer Saal
CATEGORIES:Klassenspiel
ORGANIZER;CN="Freie Waldorfschule Offenburg":MAILTO:info@waldorfschule-og.de
END:VEVENT
BEGIN:VEVENT
DTSTART;TZID=Europe/Berlin:20250309T190000
DTEND;TZID=Europe/Berlin:20250309T210000
DTSTAMP:20260424T143619
CREATED:20210614T130011Z
LAST-MODIFIED:20250128T143956Z
UID:3899-1741546800-1741554000@www.waldorfschule-og.de
SUMMARY:Concertino Frühjahrskonzert
DESCRIPTION:
URL:https://www.waldorfschule-og.de/event/concertino-fruehjahrskonzert-2/
LOCATION:Großer Saal
CATEGORIES:Konzert
ATTACH;FMTTYPE=image/jpeg:https://www.waldorfschule-og.de/wp-content/uploads/Concertino-Fruehjahr-klein.jpg
END:VEVENT
BEGIN:VEVENT
DTSTART;VALUE=DATE:20250227
DTEND;VALUE=DATE:20250308
DTSTAMP:20260424T143619
CREATED:20250128T141957Z
LAST-MODIFIED:20250128T141957Z
UID:5377-1740614400-1741391999@www.waldorfschule-og.de
SUMMARY:Fasnachtsferien
DESCRIPTION:
URL:https://www.waldorfschule-og.de/event/fasnachtsferien/
CATEGORIES:Ferien
ATTACH;FMTTYPE=image/jpeg:https://www.waldorfschule-og.de/wp-content/uploads/20200214_114035kleinklein.jpg
END:VEVENT
BEGIN:VEVENT
DTSTART;TZID=Europe/Berlin:20250216T150000
DTEND;TZID=Europe/Berlin:20250216T173000
DTSTAMP:20260424T143619
CREATED:20250128T135456Z
LAST-MODIFIED:20250128T135456Z
UID:5344-1739718000-1739727000@www.waldorfschule-og.de
SUMMARY:"Schmuddelkinder" von Andreas Galk\, Klassenspiel der 8 B
DESCRIPTION:
URL:https://www.waldorfschule-og.de/event/schmuddelkinder-von-andreas-galk-klassenspiel-der-8-b-3/
LOCATION:Großer Saal
CATEGORIES:Klassenspiel
ORGANIZER;CN="Freie Waldorfschule Offenburg":MAILTO:info@waldorfschule-og.de
END:VEVENT
BEGIN:VEVENT
DTSTART;TZID=Europe/Berlin:20250215T200000
DTEND;TZID=Europe/Berlin:20250215T223000
DTSTAMP:20260424T143619
CREATED:20250128T135401Z
LAST-MODIFIED:20250128T135633Z
UID:5342-1739649600-1739658600@www.waldorfschule-og.de
SUMMARY:"Schmuddelkinder" von Andreas Galk\, Klassenspiel der 8 B
DESCRIPTION:
URL:https://www.waldorfschule-og.de/event/schmuddelkinder-von-andreas-galk-klassenspiel-der-8-b-2/
LOCATION:Großer Saal
CATEGORIES:Klassenspiel
ORGANIZER;CN="Freie Waldorfschule Offenburg":MAILTO:info@waldorfschule-og.de
END:VEVENT
BEGIN:VEVENT
DTSTART;TZID=Europe/Berlin:20250214T200000
DTEND;TZID=Europe/Berlin:20250214T223000
DTSTAMP:20260424T143619
CREATED:20250128T135206Z
LAST-MODIFIED:20250128T135557Z
UID:5340-1739563200-1739572200@www.waldorfschule-og.de
SUMMARY:"Schmuddelkinder" von Andreas Galk\, Klassenspiel der 8 B
DESCRIPTION:
URL:https://www.waldorfschule-og.de/event/schmuddelkinder-von-andreas-galk-klassenspiel-der-8-b/
LOCATION:Großer Saal
ORGANIZER;CN="Freie Waldorfschule Offenburg":MAILTO:info@waldorfschule-og.de
END:VEVENT
BEGIN:VEVENT
DTSTART;VALUE=DATE:20241025
DTEND;VALUE=DATE:20241101
DTSTAMP:20260424T143619
CREATED:20240905T131454Z
LAST-MODIFIED:20240905T131454Z
UID:5179-1729814400-1730419199@www.waldorfschule-og.de
SUMMARY:Herbstferien
DESCRIPTION:
URL:https://www.waldorfschule-og.de/event/herbstferien/
END:VEVENT
BEGIN:VEVENT
DTSTART;TZID=Europe/Berlin:20241019T100000
DTEND;TZID=Europe/Berlin:20241019T100000
DTSTAMP:20260424T143619
CREATED:20240905T131412Z
LAST-MODIFIED:20240905T131412Z
UID:5177-1729332000-1729332000@www.waldorfschule-og.de
SUMMARY:Informationstag mit öffentlicher Monatsfeier
DESCRIPTION:
URL:https://www.waldorfschule-og.de/event/informationstag-mit-oeffentlicher-monatsfeier/
LOCATION:Freie Waldorfschule Offenburg\, Moltkestraße 3\, Offenburg\, 77654\, Deutschland
CATEGORIES:Öffentliche Monatsfeier
ORGANIZER;CN="Freie Waldorfschule Offenburg":MAILTO:info@waldorfschule-og.de
END:VEVENT
BEGIN:VEVENT
DTSTART;TZID=Europe/Berlin:20241013T190000
DTEND;TZID=Europe/Berlin:20241013T190000
DTSTAMP:20260424T143619
CREATED:20240905T131117Z
LAST-MODIFIED:20240905T131117Z
UID:5175-1728846000-1728846000@www.waldorfschule-og.de
SUMMARY:Concertino Herbstkonzert
DESCRIPTION:
URL:https://www.waldorfschule-og.de/event/concertino-herbstkonzert/
LOCATION:Großer Saal
CATEGORIES:Konzert
END:VEVENT
BEGIN:VEVENT
DTSTART;TZID=Europe/Berlin:20240926T183000
DTEND;TZID=Europe/Berlin:20240926T183000
DTSTAMP:20260424T143619
CREATED:20240905T130949Z
LAST-MODIFIED:20240905T130949Z
UID:5173-1727375400-1727375400@www.waldorfschule-og.de
SUMMARY:Infoveranstaltung des Fördervereins - Möglichkeiten einer Mitwirkung
DESCRIPTION:Der Förderverein unserer Schule sucht dringend neue MitstreiterInnen.\nDie Pädagogik lebt vom Gestaltungsraum in den künstlerischen\, handwerklichen und technischen Epochen\, von außerschulischen Praktika und von dem Lebens- und Wohlfühlort der Schule. Der Förderverein möchte dies mit Förderungen an notwenigen Stellen unterstützen.\nWie dies genau funktionieren kann und welche Möglichkeiten es gibt\, um aktiv mitzuwirken und mitzugestalten wird an diesem Abend vorgestellt. Die Aufgaben sind vielfältig und die unterschiedlichsten Fähigkeiten sind gefragt: Von kleinen\, spontanen Aufgaben bis hin zu klaren Verantwortlichkeiten. Die gemeinsame Arbeit im Verein kann viel Freude bereiten und schenkt einen schönen Einblick in die zahlreichen Aktivitäten der Schule. Gleichzeitig können die Aufgaben teilweise sogar selbstständig von zuhause erledigt werden und Sie entscheiden\, wann Sie Zeit dafür finden.\nEingeladen sind alle Eltern\, Großeltern\, ehemaligen Eltern und SchülerInnen sowie alle Menschen\, welche sich mit der Schule verbunden fühlen. \nSie möchten dabei sein? Dann bitten wir Sie um eine kurze Mail an foerderverein@waldorfschule-og.de.\nWir freuen uns auf Sie und Euch!\nHerzliche Grüße\nBenedikt Droll und Kirsten Wilhelmi\nVorstand\nFörderverein Freie Waldorfschule Offenburg e.V.
URL:https://www.waldorfschule-og.de/event/infoveranstaltung-des-foerdervereins-moeglichkeiten-einer-mitwirkung/
LOCATION:Freie Waldorfschule Offenburg\, Moltkestraße 3\, Offenburg\, 77654\, Deutschland
END:VEVENT
BEGIN:VEVENT
DTSTART;TZID=Europe/Berlin:20240919T190000
DTEND;TZID=Europe/Berlin:20240919T190000
DTSTAMP:20260424T143619
CREATED:20240905T130741Z
LAST-MODIFIED:20240905T130741Z
UID:5171-1726772400-1726772400@www.waldorfschule-og.de
SUMMARY:Generalversammlung der Genossenschaft zum Betrieb der Freien Waldorfschulen im Ortenaukreis e.G.
DESCRIPTION:
URL:https://www.waldorfschule-og.de/event/generalversammlung-der-genossenschaft-zum-betrieb-der-freien-waldorfschulen-im-ortenaukreis-e-g/
LOCATION:Großer Saal
END:VEVENT
END:VCALENDAR